BEGIN:VCALENDAR
VERSION:2.0
PRODID:Events Booking
BEGIN:VEVENT
UID:69e75f7f7f835
SUMMARY:50226 Effective Strategies Zoom Course: Maricopa Unified School Dis
 trict
DESCRIPTION:Course: 50226
 Sessions: Ten
 Session Dates: June 8-June 19\,
  2026
 Session Times: 8:00 am- 12:00 pm (AZ Time)
  
 This course is e
 ligible for 3 college credits! 
 Prerequisite: Participants are required
  to have successfully completed the Reading Foundations Course prior to re
 gistering for Effective Strategies for Writing and Reading.
 Required Tex
 t: The Writing Road to Reading
 There will be a minimum of 30 minutes of 
 homework after each session.
DTSTART:20260608T150000Z
DTEND:20260619T190000Z
DTSTAMP:20260124T004256Z
ORGANIZER;CN=Spalding Education International:MAILTO:coursesupport@spalding
 .org
END:VEVENT
END:VCALENDAR